BEGIN:VCALENDAR
PRODID:brasil.gov.agenda
VERSION:1.0
BEGIN:VEVENT
DTSTART:20210309T140000Z
DTEND:20210309T180000Z
DCREATED:20210310T114930Z
UID:Compromisso-f8ee27c67d584ed18c3b42edbad0376b
SEQUENCE:0
LAST-MODIFIED:20210310T114930Z
SUMMARY:161ª reunião em caráter extraordinário do CONSEPE
LOCATION:Compromisso online
PRIORITY:3
TRANSP:0
END:VEVENT
END:VCALENDAR
