BEGIN:VCALENDAR
PRODID:brasil.gov.agenda
VERSION:1.0
BEGIN:VEVENT
DTSTART:20210308T100000Z
DTEND:20210308T110000Z
DCREATED:20210308T114108Z
UID:Compromisso-32292596e92c43c985181ad50dd02d78
SEQUENCE:0
LAST-MODIFIED:20210308T114108Z
SUMMARY:Reunião com a Secretaria de Estado da Educação
DESCRIPTION:Projeto Apoio Pedagógico alunos do 3º ano do ensino méd
 io
LOCATION:Compromisso on-line
PRIORITY:3
TRANSP:0
END:VEVENT
END:VCALENDAR
