BEGIN:VCALENDAR
PRODID:brasil.gov.agenda
VERSION:1.0
BEGIN:VEVENT
DTSTART:20210305T080000Z
DTEND:20210305T120000Z
DCREATED:20210305T114239Z
UID:Compromisso-bf9f126788d6470f9bd28594e04811bb
SEQUENCE:0
LAST-MODIFIED:20210305T114239Z
SUMMARY:Reunião com pró-reitorias
DESCRIPTION:Planilha da Proposta Orçamentária UO 2021
LOCATION:Reitoria
PRIORITY:3
TRANSP:0
END:VEVENT
END:VCALENDAR
