BEGIN:VCALENDAR
PRODID:brasil.gov.agenda
VERSION:1.0
BEGIN:VEVENT
DTSTART:20210305T140000Z
DTEND:20210305T180000Z
DCREATED:20210305T115152Z
UID:Compromisso-ba39a5a6ec064e7c8e6bb35bf07437cd
SEQUENCE:0
LAST-MODIFIED:20210305T115152Z
SUMMARY:Despacho Interno
LOCATION:Reitoria
PRIORITY:3
TRANSP:0
END:VEVENT
END:VCALENDAR
