BEGIN:VCALENDAR
PRODID:brasil.gov.agenda
VERSION:1.0
BEGIN:VEVENT
DTSTART:20210304T080000Z
DTEND:20210304T120000Z
DCREATED:20210304T114122Z
UID:Compromisso-30a76fb7a26b402ca4fcd4794deed83a
SEQUENCE:0
LAST-MODIFIED:20210304T114122Z
SUMMARY:Despachos Internos
LOCATION:Reitoria
PRIORITY:3
TRANSP:0
END:VEVENT
END:VCALENDAR
