BEGIN:VCALENDAR
PRODID:brasil.gov.agenda
VERSION:1.0
BEGIN:VEVENT
DTSTART:20210303T080000Z
DTEND:20210303T100000Z
DCREATED:20210303T125316Z
UID:Compromisso-7d6d72a569054ed198308fb2179ec895
SEQUENCE:0
LAST-MODIFIED:20210303T131658Z
SUMMARY:Reunião com a Pró-Reitoria de Administração - PROAD
DESCRIPTION:Projetos Fazenda do Moura - Curvelo/MG
LOCATION:Reitoria
PRIORITY:3
TRANSP:0
END:VEVENT
END:VCALENDAR
