BEGIN:VCALENDAR
PRODID:brasil.gov.agenda
VERSION:1.0
BEGIN:VEVENT
DTSTART:20210303T140000Z
DTEND:20210303T180000Z
DCREATED:20210303T125055Z
UID:Compromisso-bbdbde52c58e4e4cb61cdd749500c6c5
SEQUENCE:0
LAST-MODIFIED:20210303T125055Z
SUMMARY:Despachos Internos
LOCATION:Reitoria
PRIORITY:3
TRANSP:0
END:VEVENT
END:VCALENDAR
