BEGIN:VCALENDAR
PRODID:brasil.gov.agenda
VERSION:1.0
BEGIN:VEVENT
DTSTART:20210302T110000Z
DTEND:20210302T120000Z
DCREATED:20210303T122357Z
UID:Compromisso-573b1221dd7444958cc1be53c6ec3f68
SEQUENCE:0
LAST-MODIFIED:20210303T122357Z
SUMMARY:Reunião com pró-reitorias
DESCRIPTION:Planejamento Orçamentário 2021
LOCATION:Reitoria
PRIORITY:3
TRANSP:0
END:VEVENT
END:VCALENDAR
