BEGIN:VCALENDAR
PRODID:brasil.gov.agenda
VERSION:1.0
BEGIN:VEVENT
DTSTART:20210302T080000Z
DTEND:20210302T110000Z
DCREATED:20210303T115110Z
UID:Compromisso-900d2c6a330742eba55632f4630e0602
SEQUENCE:0
LAST-MODIFIED:20210303T115344Z
SUMMARY:Reunião com a Pró-Reitoria de Gestão de Pessoas (PROGEP) e Diretorias
DESCRIPTION:1. Escritório de processos,\n2. Regulamento do trabalho r
 emoto,\n3. Automação
LOCATION:Reitoria
PRIORITY:3
TRANSP:0
END:VEVENT
END:VCALENDAR
