BEGIN:VCALENDAR
PRODID:brasil.gov.agenda
VERSION:1.0
BEGIN:VEVENT
DTSTART:20210302T150000Z
DTEND:20210302T170000Z
DCREATED:20210303T122909Z
UID:Compromisso-ceace2dcfcc147e086542f62e8602042
SEQUENCE:0
LAST-MODIFIED:20210303T122909Z
SUMMARY:Reunião com a equipe técnica da Diretoria de Educação a Distância (DED/CAPES)
DESCRIPTION:Proposta de apoio pedagógico referente ao “Projeto de e
 xtensão - Curso “Apoio Pedagógico a distância para estudantes do 
 3" ano do Ensino Médio Público na área de abrangência da UFVJM”
LOCATION:Reitoria
PRIORITY:3
TRANSP:0
END:VEVENT
END:VCALENDAR
