BEGIN:VCALENDAR
PRODID:brasil.gov.agenda
VERSION:1.0
BEGIN:VEVENT
DTSTART:20210301T080000Z
DTEND:20210301T100000Z
DCREATED:20210301T163652Z
UID:Compromisso-437a23d6ee694b1faf09411b57a0c880
SEQUENCE:0
LAST-MODIFIED:20210301T163652Z
SUMMARY:Reunião com pró-reitoria e diretorias
DESCRIPTION:Demandas Estratégicas
LOCATION:Reitoria
PRIORITY:3
TRANSP:0
END:VEVENT
END:VCALENDAR
