BEGIN:VCALENDAR
PRODID:brasil.gov.agenda
VERSION:1.0
BEGIN:VEVENT
DTSTART:20210301T150000Z
DTEND:20210301T160000Z
DCREATED:20210301T163927Z
UID:Compromisso-e145b126fd2f4700b70b0a4c988fa2f4
SEQUENCE:0
LAST-MODIFIED:20210301T163927Z
SUMMARY:Reunião com o Comitê Técnico Científico Multidisciplinar de Assessoramento da UFVJM - Campus do Mucuri
DESCRIPTION:Estágio atual do laboratório Covid
LOCATION:Compromisso online
PRIORITY:3
TRANSP:0
END:VEVENT
END:VCALENDAR
