BEGIN:VCALENDAR
PRODID:brasil.gov.agenda
VERSION:1.0
BEGIN:VEVENT
DTSTART:20210225T140000Z
DTEND:20210225T160000Z
DCREATED:20210225T113322Z
UID:Compromisso-2f294e599a284dbdb3fd2cbff4beeafd
SEQUENCE:0
LAST-MODIFIED:20210225T113322Z
SUMMARY:Reunião com os prefeito de Diamantina e Serro
DESCRIPTION:Projeto Caminho Saint-Hilaire (CaSHi)
LOCATION:Reitoria
PRIORITY:3
TRANSP:0
END:VEVENT
END:VCALENDAR
