BEGIN:VCALENDAR
PRODID:brasil.gov.agenda
VERSION:1.0
BEGIN:VEVENT
DTSTART:20210225T160000Z
DTEND:20210225T170000Z
DCREATED:20210225T113500Z
UID:Compromisso-7b4dec2594f34aecbefefbe85e3f3737
SEQUENCE:0
LAST-MODIFIED:20210225T113500Z
SUMMARY:Reunião com a Pró-Reitoria de Pesquisa e Pós-Graduação (PRPPG)
DESCRIPTION:Alinhamento estratégico e gestão
LOCATION:Reitoria
PRIORITY:3
TRANSP:0
END:VEVENT
END:VCALENDAR
