BEGIN:VCALENDAR
PRODID:brasil.gov.agenda
VERSION:1.0
BEGIN:VEVENT
DTSTART:20210225T090000Z
DTEND:20210225T100000Z
DCREATED:20210225T111912Z
UID:Compromisso-bf31673c2bcf4a78873c6cc69d580bfd
SEQUENCE:0
LAST-MODIFIED:20210225T113727Z
SUMMARY:Reunião com a Pró-reitoria de Graduação (PROGRAD)
DESCRIPTION:Demandas da Faculdade
LOCATION:Compromisso online
PRIORITY:3
TRANSP:0
END:VEVENT
END:VCALENDAR
