BEGIN:VCALENDAR
PRODID:brasil.gov.agenda
VERSION:1.0
BEGIN:VEVENT
DTSTART:20210225T100000Z
DTEND:20210225T110000Z
DCREATED:20210225T112536Z
UID:Compromisso-c11ff77af0844e6a83b008171c8dc14f
SEQUENCE:0
LAST-MODIFIED:20210225T112536Z
SUMMARY:Reunião com a Pró-reitoria de Graduação (PROGRAD)
DESCRIPTION:Análise das demandas de práticas de saúde a serem desen
 volvidas no campus I,
LOCATION:Reitoria
PRIORITY:3
TRANSP:0
END:VEVENT
END:VCALENDAR
