BEGIN:VCALENDAR
PRODID:brasil.gov.agenda
VERSION:1.0
BEGIN:VEVENT
DTSTART:20210225T110000Z
DTEND:20210225T120000Z
DCREATED:20210225T112614Z
UID:Compromisso-fd555ef5b40e48f0abd5e8816dbec9ff
SEQUENCE:0
LAST-MODIFIED:20210225T112614Z
SUMMARY:Despachos Internos
LOCATION:Reitoria
PRIORITY:3
TRANSP:0
END:VEVENT
END:VCALENDAR
