BEGIN:VCALENDAR
PRODID:brasil.gov.agenda
VERSION:1.0
BEGIN:VEVENT
DTSTART:20210223T090000Z
DTEND:20210223T100000Z
DCREATED:20210223T130415Z
UID:Compromisso-d89f63d7a2024701a7100159a96f326d
SEQUENCE:0
LAST-MODIFIED:20210223T130415Z
SUMMARY:Reunião com a Pro-reitoria de Graduação (PROGRAD)
DESCRIPTION:Troca de servidoras para assumir a função de PI
LOCATION:Reitoria
PRIORITY:3
TRANSP:0
END:VEVENT
END:VCALENDAR
