BEGIN:VCALENDAR
PRODID:brasil.gov.agenda
VERSION:1.0
BEGIN:VEVENT
DTSTART:20210223T100000Z
DTEND:20210223T120000Z
DCREATED:20210223T130507Z
UID:Compromisso-b0fee6fd14f14d1ca09979b967629a21
SEQUENCE:0
LAST-MODIFIED:20210223T130507Z
SUMMARY:Despachos Internos
LOCATION:Reitoria
PRIORITY:3
TRANSP:0
END:VEVENT
END:VCALENDAR
