BEGIN:VCALENDAR
PRODID:brasil.gov.agenda
VERSION:1.0
BEGIN:VEVENT
DTSTART:20210223T120000Z
DTEND:20210223T170000Z
DCREATED:20210223T130534Z
UID:Compromisso-ddd27b3bc1184c36bd25828748a09869
SEQUENCE:0
LAST-MODIFIED:20210223T130534Z
SUMMARY:Despachos Internos
LOCATION:Reitoria
PRIORITY:3
TRANSP:0
END:VEVENT
END:VCALENDAR
