BEGIN:VCALENDAR
PRODID:brasil.gov.agenda
VERSION:1.0
BEGIN:VEVENT
DTSTART:20210219T110000Z
DTEND:20210219T120000Z
DCREATED:20210219T131039Z
UID:Compromisso-18ac1c143df7488e8c677624caa7eb78
SEQUENCE:0
LAST-MODIFIED:20210219T131600Z
SUMMARY:Reunião com o Comitê técnico\, científico e multidisciplinar (CTCM)
DESCRIPTION:Estabelecer diálogo e pedir apoio para as ações e artic
 ulações.
LOCATION:Compromisso online
PRIORITY:3
TRANSP:0
END:VEVENT
END:VCALENDAR
