BEGIN:VCALENDAR
PRODID:brasil.gov.agenda
VERSION:1.0
BEGIN:VEVENT
DTSTART:20210219T153000Z
DTEND:20210219T160000Z
DCREATED:20210219T131450Z
UID:Compromisso-6b973b8aeb54494cb67a675b089e3988
SEQUENCE:0
LAST-MODIFIED:20210219T164108Z
SUMMARY:Reunião com as Unidades Acadêmicas: FAMED\, FAMMUC\, FCBS
DESCRIPTION:Proposta de resolução - Diretoria de Ensino\, Pesquisa e
  Extensão – DEPE
LOCATION:Compromisso online
PRIORITY:3
TRANSP:0
END:VEVENT
END:VCALENDAR
