BEGIN:VCALENDAR
PRODID:brasil.gov.agenda
VERSION:1.0
BEGIN:VEVENT
DTSTART:20210219T100000Z
DTEND:20210219T110000Z
DCREATED:20210219T130651Z
UID:Compromisso-318bc76b685b4589a3247602cb7cd37b
SEQUENCE:0
LAST-MODIFIED:20210219T130651Z
SUMMARY:Reunião com a sub-secretária de Estado de Minas Gerais\, Prof. Augusta\, UNDIME\, SRE
DESCRIPTION:Projeto Apoio a alunos do 3º ano do ensino médio de esco
 las públicas com bases pactuadas
LOCATION:Compromisso online
PRIORITY:3
TRANSP:0
END:VEVENT
END:VCALENDAR
