BEGIN:VCALENDAR
PRODID:brasil.gov.agenda
VERSION:1.0
BEGIN:VEVENT
DTSTART:20210219T080000Z
DTEND:20210219T090000Z
DCREATED:20210219T130049Z
UID:Compromisso-bc3d3ca3978e48c7ba988a01a1aa900c
SEQUENCE:0
LAST-MODIFIED:20210219T130316Z
SUMMARY:Reunião com o Centro de Telessaúde  Hospital das Clínicas (UFMG)
DESCRIPTION:Projetos nos Vales do Jequitinhonha e Mucuri\, com suporte
  da equipe da FAMMUC\, em Teófilo Otoni
LOCATION:Compromisso online
PRIORITY:3
TRANSP:0
END:VEVENT
END:VCALENDAR
