BEGIN:VCALENDAR
PRODID:brasil.gov.agenda
VERSION:1.0
BEGIN:VEVENT
DTSTART:20210218T073000Z
DTEND:20210218T140000Z
DCREATED:20210218T172208Z
UID:Compromisso-7f82ac00b0294ec1bade8e636f4291a5
SEQUENCE:0
LAST-MODIFIED:20210218T172430Z
SUMMARY:Visita a Fazenda Experimental do Moura
LOCATION:Curvelo/MG
PRIORITY:3
TRANSP:0
END:VEVENT
END:VCALENDAR
