BEGIN:VCALENDAR
PRODID:brasil.gov.agenda
VERSION:1.0
BEGIN:VEVENT
DTSTART:20210209T000000Z
DTEND:20210209T000000Z
DCREATED:20210209T111523Z
UID:Compromisso-60a40380cd694f8a81f656134f335dbe
SEQUENCE:0
LAST-MODIFIED:20210209T111721Z
SUMMARY:Encontro com parlamentares em Brasília
DESCRIPTION:Apresentação de projetos da UFVJM
LOCATION:Esplanada dos Ministérios
PRIORITY:3
TRANSP:0
END:VEVENT
END:VCALENDAR
