BEGIN:VCALENDAR
PRODID:brasil.gov.agenda
VERSION:1.0
BEGIN:VEVENT
DTSTART:20210205T090000Z
DTEND:20210205T100000Z
DCREATED:20210205T112051Z
UID:Compromisso-d3c67ce9978947289adc05d196d6bd89
SEQUENCE:0
LAST-MODIFIED:20210205T112514Z
SUMMARY:Reunião com a Presidência da Fundaepe
DESCRIPTION:Recredenciamento
LOCATION:Compromisso online
PRIORITY:3
TRANSP:0
END:VEVENT
END:VCALENDAR
