BEGIN:VCALENDAR
PRODID:brasil.gov.agenda
VERSION:1.0
BEGIN:VEVENT
DTSTART:20210205T140000Z
DTEND:20210205T150000Z
DCREATED:20210205T112657Z
UID:Compromisso-ecaa662430a943919f0dc89119542540
SEQUENCE:0
LAST-MODIFIED:20210205T112657Z
SUMMARY:Reunião com Diretores de Unidade Acadêmica
DESCRIPTION:Apresentação do balanço orçamentário 2020
LOCATION:Compromisso online
PRIORITY:3
TRANSP:0
END:VEVENT
END:VCALENDAR
