BEGIN:VCALENDAR
PRODID:brasil.gov.agenda
VERSION:1.0
BEGIN:VEVENT
DTSTART:20210205T160000Z
DTEND:20210205T170000Z
DCREATED:20210205T113313Z
UID:Compromisso-ba3943aa27ad42eda187d42122bb5232
SEQUENCE:0
LAST-MODIFIED:20210205T113615Z
SUMMARY:Reunião com Coordenadores de curso e Chefia de Departamento
DESCRIPTION:Orçamento da UFVJM executado em 2020: planejamento e aqui
 sições
LOCATION:Compromisso online
PRIORITY:3
TRANSP:0
END:VEVENT
END:VCALENDAR
