BEGIN:VCALENDAR
PRODID:brasil.gov.agenda
VERSION:1.0
BEGIN:VEVENT
DTSTART:20210205T080000Z
DTEND:20210205T090000Z
DCREATED:20210205T111812Z
UID:Compromisso-e2e0be3d08e4457db6bf3472ff9176b5
SEQUENCE:0
LAST-MODIFIED:20210205T111812Z
SUMMARY:Reunião com a Diretoria de Educação Aberta e a Distância (DEAD)
DESCRIPTION:Demandas da diretoria
LOCATION:Reitoria
PRIORITY:3
TRANSP:0
END:VEVENT
END:VCALENDAR
