BEGIN:VCALENDAR
PRODID:brasil.gov.agenda
VERSION:1.0
BEGIN:VEVENT
DTSTART:20210205T100000Z
DTEND:20210205T120000Z
DCREATED:20210205T112130Z
UID:Compromisso-d08a5a71112d4ff3a1293867e41d3c21
SEQUENCE:0
LAST-MODIFIED:20210205T112130Z
SUMMARY:Despachos Internos
LOCATION:Reitoria
PRIORITY:3
TRANSP:0
END:VEVENT
END:VCALENDAR
