BEGIN:VCALENDAR
PRODID:brasil.gov.agenda
VERSION:1.0
BEGIN:VEVENT
DTSTART:20210205T180000Z
DTEND:20210205T200000Z
DCREATED:20210208T131055Z
UID:Compromisso-862fff759a584b1887b7467a79341b6f
SEQUENCE:0
LAST-MODIFIED:20210208T131055Z
SUMMARY:Colação de grau antecipada curso de Medicina do Mucuri (Fammuc)
LOCATION:Compromisso online
PRIORITY:3
TRANSP:0
END:VEVENT
END:VCALENDAR
