BEGIN:VCALENDAR
PRODID:brasil.gov.agenda
VERSION:1.0
BEGIN:VEVENT
DTSTART:20210204T080000Z
DTEND:20210204T090000Z
DCREATED:20210204T123210Z
UID:Compromisso-3555711e213f40b793727c2748490684
SEQUENCE:0
LAST-MODIFIED:20210204T123244Z
SUMMARY:Reunião com funcionária da Fundaepe
DESCRIPTION:Situação na Fundaepe
LOCATION:Reitoria
PRIORITY:3
TRANSP:0
END:VEVENT
END:VCALENDAR
