BEGIN:VCALENDAR
PRODID:brasil.gov.agenda
VERSION:1.0
BEGIN:VEVENT
DTSTART:20210204T140000Z
DTEND:20210204T140000Z
DCREATED:20210204T123442Z
UID:Compromisso-df8ae807f6a94dc68d4139ae1218e893
SEQUENCE:0
LAST-MODIFIED:20210204T123442Z
SUMMARY:Reunião com professora
DESCRIPTION:Apresentação de projetos
LOCATION:Compromisso online
PRIORITY:3
TRANSP:0
END:VEVENT
END:VCALENDAR
