BEGIN:VCALENDAR
PRODID:brasil.gov.agenda
VERSION:1.0
BEGIN:VEVENT
DTSTART:20210204T090000Z
DTEND:20210204T120000Z
DCREATED:20210204T123302Z
UID:Compromisso-2725f615e2124438a0ef45e9c695463a
SEQUENCE:0
LAST-MODIFIED:20210204T123302Z
SUMMARY:Despachos Internos
LOCATION:Reitoria
PRIORITY:3
TRANSP:0
END:VEVENT
END:VCALENDAR
