BEGIN:VCALENDAR
PRODID:brasil.gov.agenda
VERSION:1.0
BEGIN:VEVENT
DTSTART:20210201T080000Z
DTEND:20210201T090000Z
DCREATED:20210201T122521Z
UID:Compromisso-e66451f49d8c40d8830e16cb3494918a
SEQUENCE:0
LAST-MODIFIED:20210201T132407Z
SUMMARY:Reunião com autoridades municipais
DESCRIPTION:Moradia Estudantil
LOCATION:Reitoria
PRIORITY:3
TRANSP:0
END:VEVENT
END:VCALENDAR
