BEGIN:VCALENDAR
PRODID:brasil.gov.agenda
VERSION:1.0
BEGIN:VEVENT
DTSTART:20210201T100000Z
DTEND:20210201T110000Z
DCREATED:20210201T132847Z
UID:Compromisso-331f4363d8c2412a8af81842e341fa2c
SEQUENCE:0
LAST-MODIFIED:20210201T140225Z
SUMMARY:Reunião com a Companhia de Desenvolvimento dos Vales do São Francisco e do Parnaíba (Codevasf)
DESCRIPTION:Projetos e parcerias
LOCATION:Reitoria
PRIORITY:3
TRANSP:0
END:VEVENT
END:VCALENDAR
