BEGIN:VCALENDAR
PRODID:brasil.gov.agenda
VERSION:1.0
BEGIN:VEVENT
DTSTART:20210201T140000Z
DTEND:20210201T180000Z
DCREATED:20210201T133048Z
UID:Compromisso-f2ad7a640ac6421998acbc963a89bac2
SEQUENCE:0
LAST-MODIFIED:20210201T133049Z
SUMMARY:Despachos Internos
LOCATION:Reitoria
PRIORITY:3
TRANSP:0
END:VEVENT
END:VCALENDAR
