BEGIN:VCALENDAR
PRODID:brasil.gov.agenda
VERSION:1.0
BEGIN:VEVENT
DTSTART:20210129T160000Z
DTEND:20210129T170000Z
DCREATED:20210127T182054Z
UID:Compromisso-b29d7691446a4d95aeed27c225f4e7ad
SEQUENCE:0
LAST-MODIFIED:20210127T182338Z
SUMMARY:Reunião com a Faculdade Interdisciplinar em Humanidades (FIH)
DESCRIPTION:Demandas da Unidade Acadêmica
LOCATION:Reitoria
PRIORITY:3
TRANSP:0
END:VEVENT
END:VCALENDAR
