BEGIN:VCALENDAR
PRODID:brasil.gov.agenda
VERSION:1.0
BEGIN:VEVENT
DTSTART:20210128T080000Z
DTEND:20210128T090000Z
DCREATED:20210127T173416Z
UID:Compromisso-eca9e7ca72414b9084031937949cc92d
SEQUENCE:0
LAST-MODIFIED:20210127T173416Z
SUMMARY:Reunião com a Diretoria de Tecnologia da Informação (DTI)
DESCRIPTION:Apresentação de sistema
LOCATION:Reitoria
PRIORITY:3
TRANSP:0
END:VEVENT
END:VCALENDAR
