BEGIN:VCALENDAR
PRODID:brasil.gov.agenda
VERSION:1.0
BEGIN:VEVENT
DTSTART:20210128T090000Z
DTEND:20210128T100000Z
DCREATED:20210127T173552Z
UID:Compromisso-c4fb283e54c6431c8e0990c505e4f214
SEQUENCE:0
LAST-MODIFIED:20210127T173552Z
SUMMARY:Reunião com a comissão incumbida da elaboração do PDTI
DESCRIPTION:Apresentação dos trabalhos
LOCATION:Reitoria
PRIORITY:3
TRANSP:0
END:VEVENT
END:VCALENDAR
