BEGIN:VCALENDAR
PRODID:brasil.gov.agenda
VERSION:1.0
BEGIN:VEVENT
DTSTART:20210128T100000Z
DTEND:20210128T120000Z
DCREATED:20210127T173710Z
UID:Compromisso-73853d3443ce47e5959cd71d535fdf8d
SEQUENCE:0
LAST-MODIFIED:20210127T173710Z
SUMMARY:Despachos Internos
LOCATION:Reitoria
PRIORITY:3
TRANSP:0
END:VEVENT
END:VCALENDAR
