BEGIN:VCALENDAR
PRODID:brasil.gov.agenda
VERSION:1.0
BEGIN:VEVENT
DTSTART:20210128T140000Z
DTEND:20210128T180000Z
DCREATED:20210127T174758Z
UID:Compromisso-eec3c1537e0c4b19a05c7c772c7a5ff8
SEQUENCE:0
LAST-MODIFIED:20210127T174758Z
SUMMARY:Despachos Internos
LOCATION:Reitoria
PRIORITY:3
TRANSP:0
END:VEVENT
END:VCALENDAR
