BEGIN:VCALENDAR
PRODID:brasil.gov.agenda
VERSION:1.0
BEGIN:VEVENT
DTSTART:20210126T160000Z
DTEND:20210126T163000Z
DCREATED:20210127T114504Z
UID:Compromisso-476701f6a6c04e52aa765552a9178501
SEQUENCE:0
LAST-MODIFIED:20210127T114504Z
SUMMARY:Sessão de posse
LOCATION:Reitoria
PRIORITY:3
TRANSP:0
END:VEVENT
END:VCALENDAR
