BEGIN:VCALENDAR
PRODID:brasil.gov.agenda
VERSION:1.0
BEGIN:VEVENT
DTSTART:20210126T080000Z
DTEND:20210126T120000Z
DCREATED:20210126T120825Z
UID:Compromisso-fcd2d3b0370844eca391baa1f5443e10
SEQUENCE:0
LAST-MODIFIED:20210126T120825Z
SUMMARY:Reunião do Comitê de Governança\, Integridade\, Riscos e Controle - CGIRC
DESCRIPTION:Tomar conhecimento da 1ª versão do Plano Estratégico In
 stitucional - PEI e realizar a aprovação para posterior publicação
  no Portal da UFVJM.
LOCATION:Reitoria
PRIORITY:3
TRANSP:0
END:VEVENT
END:VCALENDAR
