BEGIN:VCALENDAR
PRODID:brasil.gov.agenda
VERSION:1.0
BEGIN:VEVENT
DTSTART:20210126T140000Z
DTEND:20210126T170000Z
DCREATED:20210126T173945Z
UID:Compromisso-c81129c206944b7085c76aaa5b68f88f
SEQUENCE:0
LAST-MODIFIED:20210126T173945Z
SUMMARY:Reunião do Comitê de Governança\, Integridade\, Riscos e Controle - CGIRC
DESCRIPTION:Tomar conhecimento da 1ª versão do Plano Estratégico In
 stitucional - PEI e realizar a aprovação para posterior publicação
  no Portal da UFVJM.
LOCATION:Reitoria
PRIORITY:3
TRANSP:0
END:VEVENT
END:VCALENDAR
