BEGIN:VCALENDAR
PRODID:brasil.gov.agenda
VERSION:1.0
BEGIN:VEVENT
DTSTART:20210122T140000Z
DTEND:20210122T170000Z
DCREATED:20210122T165027Z
UID:Compromisso-d459d0f2c3644e5fafa794442f1be315
SEQUENCE:0
LAST-MODIFIED:20210122T165027Z
SUMMARY:Reunião do Comitê de Governança\, Integridade\, Riscos e Controle - CGIRC
DESCRIPTION:Tomar conhecimento da 1ª versão do Plano Estratégico In
 stitucional - PEI e realizar a aprovação para posterior publicação
  no Portal da UFVJM.
LOCATION:Reitoria
PRIORITY:3
TRANSP:0
END:VEVENT
END:VCALENDAR
