BEGIN:VCALENDAR
PRODID:brasil.gov.agenda
VERSION:1.0
BEGIN:VEVENT
DTSTART:20210122T080000Z
DTEND:20210122T120000Z
DCREATED:20210122T164901Z
UID:Compromisso-b80d734f8de44261a2c70d4f2d7f85d6
SEQUENCE:0
LAST-MODIFIED:20210122T164901Z
SUMMARY:Despachos Internos
LOCATION:Reitoria
PRIORITY:3
TRANSP:0
END:VEVENT
END:VCALENDAR
