BEGIN:VCALENDAR
PRODID:brasil.gov.agenda
VERSION:1.0
BEGIN:VEVENT
DTSTART:20210121T083000Z
DTEND:20210121T100000Z
DCREATED:20210121T120108Z
UID:Compromisso-ba49eeeeade04ba79253800677792dca
SEQUENCE:0
LAST-MODIFIED:20210121T120141Z
SUMMARY:Reunião com a Pró-Reitoria de Planejamento e Orçamento (PROPLAN)
DESCRIPTION:Orçamento
LOCATION:Reitoria
PRIORITY:3
TRANSP:0
END:VEVENT
END:VCALENDAR
