BEGIN:VCALENDAR
PRODID:brasil.gov.agenda
VERSION:1.0
BEGIN:VEVENT
DTSTART:20210121T110000Z
DTEND:20210121T120000Z
DCREATED:20210121T120202Z
UID:Compromisso-df464c2f7a4b4261bc4d8022da150f73
SEQUENCE:0
LAST-MODIFIED:20210121T120202Z
SUMMARY:Despachos Internos
LOCATION:Reitoria
PRIORITY:3
TRANSP:0
END:VEVENT
END:VCALENDAR
